BEGIN:VCALENDAR
VERSION:2.0
PRODID:-//Eventin//Event Calendar//EN
CALSCALE:GREGORIAN
METHOD:PUBLISH
BEGIN:VEVENT
UID:3817f438803c1fe1d1255846e6a75ed7@severndroogcastle.org.uk
SUMMARY:Poetry &amp\; Spoken Word Open Mic Night with Greenwich Libraries
DESCRIPTION:Calling all writers and poets\, we need you! Are you interested
  in sharing your poetry with others? Looking for inspiration for poems of y
 our own? Want a fun night out full of wordy\, nerdy goodness?\nFor one nigh
 t only\, Eltham Library will takeover the courtyard at Severndroog and brin
 g their regular monthly open mic evening to the Castle!\nFriday 29 May 2026
 \nGate open & sign up at 6pm\; Performances start at 6.30pm\nArrive early t
 o toss your name in the hat for open mic slots. The Severndroog Tea Room wi
 ll be open selling teas\, coffees\, snacks and wine.\nTickets are free\, bu
 t advance booking is essential.\n\nTicket does not include viewing platform
 \, food or drinks. Only food and drink purchased on site may be consumed du
 ring the event.\nFree parking facilities available at the nearby Castle Woo
 d public car park\; it will remain open for the duration of this event. Use
  SE18 3RU or What3Words drop.kicked.less to locate the car park from Shoote
 rs Hill A207\nThis is an outdoor event and will go ahead in almost all wea
 thers\, so please dress for the weather.\nDogs are not permitted at ticket
 ed events at Severndroog Castle\, assistance dogs excepted. Please get in t
 ouch if you are bringing an assistance dog to the performance\, so we can s
 upport your visit.\nBy supporting events like this\, you are personally hel
 ping to keep our castle open for the community to enjoy. Severndroog Castle
  is a small\, independent charity which receives no regular funding\, with 
 every pound spend in the Tea Room we can continue to maintain and conserve 
 the Castle for the generations to come.\n\n 
LOCATION:Severndroog Castle
DTSTAMP:20260419T141616Z
DTSTART:20260529T173000Z
DTEND:20260529T200000Z
END:VEVENT
END:VCALENDAR
