BEGIN:VCALENDAR
VERSION:2.0
PRODID:-//Eventin//Event Calendar//EN
CALSCALE:GREGORIAN
METHOD:PUBLISH
BEGIN:VEVENT
UID:6142f8983e46ef7511392ac5141a19b7@severndroogcastle.org.uk
SUMMARY:Blackheath Creatives Fest at the Castle
DESCRIPTION:For the first time at Severndroog\, Blackheath Creatives annual
  Music Fest will take over the courtyard for a joyous midsummer evening cel
 ebrating South London music. Headliners Laurence O n' the Blistered Mirrors
  will be supported by The Mooches\, The Bus Stops and The Quaggys.\nDoors\,
  Bar and Streetfood from 5pm with Live Music from 6-9.30pm\nTickets £15 i
 ncluding booking fee (general access)\n\nMinimum age 18\nTicket does not in
 clude viewing platform\, food or drinks\; available for purchase on site. O
 nly food and drink purchased on site may be consumed during the event\nFree
  parking facilities available at The Castle Wood public car park\; it will 
 remain open for the duration of this event. Use SE18 3RU or What3Words drop
 .kicked.less to locate the car park from Shooters Hill A207\nThis is an out
 door event and will go ahead in almost all weathers\, so please dress for t
 he weather - but don't hold back on dressing for the occasion!\nDogs are no
 t permitted at ticketed events at Severndroog Castle\, assistance dogs exce
 pted. Please get in touch if you are bringing an assistance dog to the perf
 ormance\, so we can support your visit.\nBy supporting events like this\, y
 ou are personally helping to keep our castle open for the community to enjo
 y. Severndroog Castle is a small\, independent charity which receives no re
 gular funding\, with these events and your generosity we can continue to ma
 intain and conserve the Castle for the generations to come.\n\n\nThe Quaggy
  River String Band South London's finest Bluegrass/Old-Time band. A superbl
 y talented group with the most authentic Bluegrass sound outside of the Sta
 tes . Banjo\, upright bass\, fiddle\, guitar\, brilliant vocals and more. T
 he Quaggy River String Band are  a wonderful live music experience.\n \nT
 he Bus Stops (so named after the song by The Hollies but also because of ti
 es to local band The 286) are 3 lead singers in one trio. Nathan Persad is 
 known as a guitarist on the local scene but is the authentic 60s style drum
 mer here\, Spencer is The Face Of The 286 and Gary likely drove you somewhe
 re on the 89 bus. Expect familiar and less overplayed 60s hit songs.\n \nT
 he Mooches This is a group in that vein of classic English groups who find 
 beauty in the everyday\, sprinkled over the top of cheery guitars and infec
 tious melodies.  The Mooches have been wowing and winning over crowds in t
 heir native South London and way beyond for some time now. Their reputation
  as a great live act is firmly cemented.\n \nThe Blistered Mirrors Recogni
 sed as one of the best live acts around\, Laurence O 'n The Blistered Mirro
 rs are now an integral part of the South London music scene\, with their or
 iginal songs and special brand of musicality. This 7-piece band have alread
 y released their hugely rated eponymous 1st album and are now near to compl
 etion of their 2nd.  Original\, unique and not to be missed.\n\n\nBlackhea
 th Creatives\, as an organisation\, started out as a small group of local a
 rtists and creatives who\, upon taking on a short lease in shop premises in
  the heart of Blackheath\, had the collective intention of  providing a fu
 n\, communal and vibrant space whereby artists could exhibit and actively i
 nteract with each other and the broader public\, who were magnetically draw
 n to this all-inclusive\, joyous new place. Art\, furniture\, ceramics\, cl
 othing\, workshops and myriad offerings were available to purchase or just 
 admire!\n \nIt exceeded all expectations and became so much more\, as a ho
 st of musicians were also drawn to this space. 'Open mic' sessions were dul
 y provided and the now legendary Blackheath Creatives festival evolved into
  something quite special . Even a fully powered stage was built in the gard
 en area and festival days were a whirlwind of musicians\, stalls\, face pai
 nting\,  dancing\, and the best cakes in London being bought and consumed 
 from our fabulous in-store cafe!\n \nLeases end\, but Blackheath Creatives
  as an organisation does not. Now concentrating on special one off events\,
  craft fairs\, Christmas fairs\, music festivals and special multi business
  events in the area\, we look to provide special\, unique occasions and in 
 this spirit\, we are thrilled to be working with the lovely people at Sever
 ndroog Castle\, at this wonderful\, iconic location\, to bring to you an ev
 ening of music\, with some of our many\, super talented local musicians. Yo
 ur constant support fuels our passion to  keep putting on these events\, s
 o thank you all.
LOCATION:Severndroog Castle
DTSTAMP:20260423T185125Z
DTSTART:20260627T160000Z
DTEND:20260627T203000Z
END:VEVENT
END:VCALENDAR
